BEGIN:VCALENDAR
VERSION:2.0
PRODID:-//日本神経生理検査研究会 - ECPv6.15.20//NONSGML v1.0//EN
CALSCALE:GREGORIAN
METHOD:PUBLISH
X-ORIGINAL-URL:https://jsgn.org
X-WR-CALDESC:日本神経生理検査研究会 のイベント
REFRESH-INTERVAL;VALUE=DURATION:PT1H
X-Robots-Tag:noindex
X-PUBLISHED-TTL:PT1H
BEGIN:VTIMEZONE
TZID:Asia/Tokyo
BEGIN:STANDARD
TZOFFSETFROM:+0900
TZOFFSETTO:+0900
TZNAME:JST
DTSTART:20250101T000000
END:STANDARD
END:VTIMEZONE
BEGIN:VEVENT
DTSTART;TZID=Asia/Tokyo:20260221T125000
DTEND;TZID=Asia/Tokyo:20260221T150000
DTSTAMP:20260426T074338
CREATED:20251221T062423Z
LAST-MODIFIED:20251221T062424Z
UID:1723-1771678200-1771686000@jsgn.org
SUMMARY:第11回日本神経生理検査研究会　近畿支部研修会
DESCRIPTION:近畿支部でWeb研修会を開催します。今回は「てんかんと脳波検査」をテーマとし、臨床現場で役立つ2つの講演を企画いたしました。皆様のご参加を心よりお待ちしております。 \n\n\n\n日時：2026年2月21日（土） 12:50～15:00場所：Zoom（ウェビナー）によるオンライン配信定員：200名参加費：日本神経生理検査研究会 会員：無料　非会員：500円プログラム12:50～13:00　受付開始、配信テスト13:00～13:05　開会挨拶　中倉真之（近畿支部 支部長）13:05～13:55　講演1『成人領域における脳波検査依頼への対応』　　　　　　　講師：中倉真之（京都第一赤十字病院　検査部）13:55～14:55　講演2『てんかん診療における脳波の役割』　　　　　　　講師：宇佐美清英 先生（京都大学医学部附属病院　検査部　病院講師）14:55～15:00　閉会挨拶　出村彩郁（近畿支部　幹事） \n\n\n\n申込方法：こちらからお申し込みください詳細はこちら申込期間：2025年12月22日（月）～2026年2月20日（金）問い合わせ：日本神経生理検査研究会 近畿支部 事務局shinkeiseiriken.kinki@gmail.com
URL:https://jsgn.org/event/%e7%ac%ac11%e5%9b%9e%e6%97%a5%e6%9c%ac%e7%a5%9e%e7%b5%8c%e7%94%9f%e7%90%86%e6%a4%9c%e6%9f%bb%e7%a0%94%e7%a9%b6%e4%bc%9a%e3%80%80%e8%bf%91%e7%95%bf%e6%94%af%e9%83%a8%e7%a0%94%e4%bf%ae%e4%bc%9a/
ATTACH;FMTTYPE=image/png:https://jsgn.org/wp-content/uploads/2022/04/日本神経生理検査研究会　fabicon.png
END:VEVENT
END:VCALENDAR