BEGIN:VCALENDAR
VERSION:2.0
PRODID:-//日本神経生理検査研究会 - ECPv6.15.20//NONSGML v1.0//EN
CALSCALE:GREGORIAN
METHOD:PUBLISH
X-WR-CALNAME:日本神経生理検査研究会
X-ORIGINAL-URL:https://jsgn.org
X-WR-CALDESC:日本神経生理検査研究会 のイベント
REFRESH-INTERVAL;VALUE=DURATION:PT1H
X-Robots-Tag:noindex
X-PUBLISHED-TTL:PT1H
BEGIN:VTIMEZONE
TZID:Asia/Tokyo
BEGIN:STANDARD
TZOFFSETFROM:+0900
TZOFFSETTO:+0900
TZNAME:JST
DTSTART:20240101T000000
END:STANDARD
END:VTIMEZONE
BEGIN:VEVENT
DTSTART;TZID=Asia/Tokyo:20251102T093000
DTEND;TZID=Asia/Tokyo:20251102T144000
DTSTAMP:20260426T113138
CREATED:20250901T005010Z
LAST-MODIFIED:20250901T023525Z
UID:1644-1762075800-1762094400@jsgn.org
SUMMARY:第42回日本神経生理検査研究会　中部支部研修会
DESCRIPTION:日時：2025年 11月 2日（日）　講演9:30～11:10   実習13:20～14:40 \n\n\n\nテーマ ：脳波の電極装着～検査の腕の見せどころ～  \n\n\n\nプログラム \n\n\n\n       9:30～ 受付開始 \n\n\n\n     10:00～10:30　講演１ \n\n\n\n　　　　　　「デジタル脳波計の使い方」　　　　　　佐古 和彦氏（日本光電工業株式会社） \n\n\n\n10:30～11:10　講演２　 \n\n\n\n　　　　　　「電極装着に活かす“知識”と“工夫”」　　　　　　久富　一毅技師（三重大学医学部附属病院　検査部） \n\n\n\n13:20～13:30　全体実習 \n\n\n\n「デジタル脳波計の使い方」※実機を用いて行います \n\n\n\n13:40～14:40　グループ実習 \n\n\n\n　　　　　　① 「接触抵抗の落とし方」 ※実際に電極をつけて接触抵抗を測定します。 \n\n\n\n　　　　　    ② 「仰臥位や体動者の電極装着」 ※マネキンを使い装着手順、包帯の巻き方など実習します。 \n\n\n\n★参加資格：第63回中部圏支部医学検査学会の参加者  \n\n\n\n★参加定員 ：①講演の部：70名程度  \n\n\n\n                    ②実習の部：24名（見学のみで参加も可能です）  \n\n\n\n                     ※講演・実習ともにWebによる配信はありません  \n\n\n\n★参加費：   ① 講演の部：会員、非会員ともに無料  \n\n\n\n　　　　　    ② 実習の部：実習・日本神経生理検査研究会 会員無料 注 ･ 非会員500円 \n\n\n\n                     注） 会費ペイにて継続課金方法の登録されている方のみが会員として参加が可能です  \n\n\n\n                     見学・会員無料・非会員500円  \n\n\n\n詳細はこちら \n\n\n\n申し込みはこちら　9月8日からの申し込みとなります。
URL:https://jsgn.org/event/%e7%ac%ac42%e5%9b%9e%e6%97%a5%e6%9c%ac%e7%a5%9e%e7%b5%8c%e7%94%9f%e7%90%86%e6%a4%9c%e6%9f%bb%e7%a0%94%e7%a9%b6%e4%bc%9a%e3%80%80%e4%b8%ad%e9%83%a8%e6%94%af%e9%83%a8%e7%a0%94%e4%bf%ae%e4%bc%9a/
ATTACH;FMTTYPE=image/png:https://jsgn.org/wp-content/uploads/2022/04/日本神経生理検査研究会　fabicon.png
END:VEVENT
END:VCALENDAR