BEGIN:VCALENDAR
VERSION:2.0
PRODID:-//日本神経生理検査研究会 - ECPv6.15.20//NONSGML v1.0//EN
CALSCALE:GREGORIAN
METHOD:PUBLISH
X-ORIGINAL-URL:https://jsgn.org
X-WR-CALDESC:日本神経生理検査研究会 のイベント
REFRESH-INTERVAL;VALUE=DURATION:PT1H
X-Robots-Tag:noindex
X-PUBLISHED-TTL:PT1H
BEGIN:VTIMEZONE
TZID:Asia/Tokyo
BEGIN:STANDARD
TZOFFSETFROM:+0900
TZOFFSETTO:+0900
TZNAME:JST
DTSTART:20250101T000000
END:STANDARD
END:VTIMEZONE
BEGIN:VEVENT
DTSTART;TZID=Asia/Tokyo:20260207T140000
DTEND;TZID=Asia/Tokyo:20260207T161000
DTSTAMP:20260426T074652
CREATED:20251215T101459Z
LAST-MODIFIED:20251222T110447Z
UID:1715-1770472800-1770480600@jsgn.org
SUMMARY:第78回日本神経生理検査研究会　北海道支部研修会
DESCRIPTION:テーマ：乳幼児脳波　電極装着の工夫と脳波判読 \n\n\n\n～他施設での手技も聞いてみたい！～ \n\n\n\n日時　 　 2026年2月7日（土）　14:00～16:10会場　　 ZOOMによるWebセミナー　(定員200名)参加費 　神経生理検査研究会会員 ： 無料　　非会員 ： 2000円申込開始　2025年12月15日（月）申込締切　2026年2月2日（月） \n\n\n\n講演① 「当院における乳幼児　脳波電極装着の手技・工夫のご紹介」講師　　市川　智大　（北海道大学病院　検査・輸血部） \n\n\n\n意見交流 「各施設での乳幼児脳波電極装着についても聞いてみよう！」進行　　市川　智大　（北海道大学病院　検査・輸血部）― パネリスト ―○ 山根　剛　先生 （北海道立子ども総合医療・療育センター　検査部）○ 鈴木　美野理　先生 （東北大学病院　生理検査センター）　○ 持丸　朋美　先生 （九州大学病院　検査部） \n\n\n\n講演② 「小児の脳波検査は大事です！」講師　　白石　秀明　先生　（獨協医科大学　医学部　小児科学） \n\n\n\n詳細はこちら \n\n\n\n申し込みはこちら
URL:https://jsgn.org/event/%e7%ac%ac78%e5%9b%9e%e6%97%a5%e6%9c%ac%e7%a5%9e%e7%b5%8c%e7%94%9f%e7%90%86%e6%a4%9c%e6%9f%bb%e7%a0%94%e7%a9%b6%e4%bc%9a%e3%80%80%e5%8c%97%e6%b5%b7%e9%81%93%e6%94%af%e9%83%a8%e7%a0%94%e4%bf%ae%e4%bc%9a/
ATTACH;FMTTYPE=image/png:https://jsgn.org/wp-content/uploads/2022/04/日本神経生理検査研究会　fabicon.png
END:VEVENT
BEGIN:VEVENT
DTSTART;TZID=Asia/Tokyo:20260221T125000
DTEND;TZID=Asia/Tokyo:20260221T150000
DTSTAMP:20260426T074652
CREATED:20251221T062423Z
LAST-MODIFIED:20251221T062424Z
UID:1723-1771678200-1771686000@jsgn.org
SUMMARY:第11回日本神経生理検査研究会　近畿支部研修会
DESCRIPTION:近畿支部でWeb研修会を開催します。今回は「てんかんと脳波検査」をテーマとし、臨床現場で役立つ2つの講演を企画いたしました。皆様のご参加を心よりお待ちしております。 \n\n\n\n日時：2026年2月21日（土） 12:50～15:00場所：Zoom（ウェビナー）によるオンライン配信定員：200名参加費：日本神経生理検査研究会 会員：無料　非会員：500円プログラム12:50～13:00　受付開始、配信テスト13:00～13:05　開会挨拶　中倉真之（近畿支部 支部長）13:05～13:55　講演1『成人領域における脳波検査依頼への対応』　　　　　　　講師：中倉真之（京都第一赤十字病院　検査部）13:55～14:55　講演2『てんかん診療における脳波の役割』　　　　　　　講師：宇佐美清英 先生（京都大学医学部附属病院　検査部　病院講師）14:55～15:00　閉会挨拶　出村彩郁（近畿支部　幹事） \n\n\n\n申込方法：こちらからお申し込みください詳細はこちら申込期間：2025年12月22日（月）～2026年2月20日（金）問い合わせ：日本神経生理検査研究会 近畿支部 事務局shinkeiseiriken.kinki@gmail.com
URL:https://jsgn.org/event/%e7%ac%ac11%e5%9b%9e%e6%97%a5%e6%9c%ac%e7%a5%9e%e7%b5%8c%e7%94%9f%e7%90%86%e6%a4%9c%e6%9f%bb%e7%a0%94%e7%a9%b6%e4%bc%9a%e3%80%80%e8%bf%91%e7%95%bf%e6%94%af%e9%83%a8%e7%a0%94%e4%bf%ae%e4%bc%9a/
ATTACH;FMTTYPE=image/png:https://jsgn.org/wp-content/uploads/2022/04/日本神経生理検査研究会　fabicon.png
END:VEVENT
BEGIN:VEVENT
DTSTART;TZID=Asia/Tokyo:20260222T023000
DTEND;TZID=Asia/Tokyo:20260222T170000
DTSTAMP:20260426T074652
CREATED:20260106T074158Z
LAST-MODIFIED:20260106T074435Z
UID:1733-1771727400-1771779600@jsgn.org
SUMMARY:第44回日本神経生理検査研究会　関東甲信越支部研修会
DESCRIPTION:テーマ：『神経生理検査を基礎から見直そう！』 \n\n\n\n【開催日時】　202６年２月２２日（日）　1４：30～17：00 \n\n\n\n【開催方法】　Web（Zoom） \n\n\n\n14：30～14：45 入室（CM配信）14：45～14：50　開会の挨拶　　片山　雅史（日本神経生理検査研究会 会長）　星野　哲（関東甲信越支部 支部長）14：50～15：50　【講義１】神経伝導検査の初めの一歩　講師：川口 港　技師（独立行政法人国立病院機構　相模原病院）15：50～15：55　　　〈　休　憩　〉15：55～16：55　【講義2】初めて学ぶ脳波検査　講師：髙橋　修　技師（東邦大学医療センター佐倉病院）16：55～17：00　閉会の挨拶　　川口　港（関東甲信越支部　幹事）総合司会：田中　理（関東甲信越支部　幹事） \n\n\n\n【参加費】　本研究会　会員　無料　，非会員　2\,000円＊ 参加希望者は事前登録が必要です．参加費は返信メールの振込先へお振り込みください．＊ 本研究会へ入会ご希望の方は，お申し込み前に当研究会ホームページの入会案内より入会手続きを行ってください．＊ 会員とは会費ペイにて継続課金方法の登録が済んでいる方が対象です。ご注意ください． \n\n\n\n【定員】　先着200名 \n\n\n\n【申し込み方法】　事前登録が必要です．申し込み専用フォームから登録してください．＊ 申し込み期間2026年１月１５日（木）～ 2026年２月15日（日）＊ 申し込み専用フォーム はこちら＊ 詳細はこちら※ 参加費の入金確認にて申込み完了となります．返信メールの入金案内に従って振り込みをお願い致します． \n\n\n\n【更新単位・履修点数】＊ 日臨技生涯教育履修点数：専門教科10点（自己申告が必要です．）＊ 日本臨床神経生理学会認定医・認定技術師　更新点数５点（注：本研究会主催の研修会を複数回参加しても，申請ができるのは年１回のみです．） \n\n\n\n◆勉強会に関する問合わせ◆日本神経生理検査研究会関東甲信越支部　事務局Mail：nihonsinkeiseirikantou@gmail.com
URL:https://jsgn.org/event/%e7%ac%ac44%e5%9b%9e%e6%97%a5%e6%9c%ac%e7%a5%9e%e7%b5%8c%e7%94%9f%e7%90%86%e6%a4%9c%e6%9f%bb%e7%a0%94%e7%a9%b6%e4%bc%9a%e3%80%80%e9%96%a2%e6%9d%b1%e7%94%b2%e4%bf%a1%e8%b6%8a%e6%94%af%e9%83%a8%e7%a0%94/
ATTACH;FMTTYPE=image/png:https://jsgn.org/wp-content/uploads/2022/04/日本神経生理検査研究会　fabicon.png
END:VEVENT
BEGIN:VEVENT
DTSTART;TZID=Asia/Tokyo:20260314T133000
DTEND;TZID=Asia/Tokyo:20260314T163000
DTSTAMP:20260426T074652
CREATED:20260126T050051Z
LAST-MODIFIED:20260203T033212Z
UID:1747-1773495000-1773505800@jsgn.org
SUMMARY:第43回日本神経生理検査研究会中部支部研修会 
DESCRIPTION:日時：2026年 3月 14日（土）　13:30～16:30 \n\n\n\nテーマ ：感覚神経を探求する～評価技術と臨床応用～  \n\n\n\nプログラム \n\n\n\n     13:00～ 受付開始 \n\n\n\n     13:30～14:10　講演１ \n\n\n\n　　　　　　「感覚神経伝導検査の基礎」 \n\n\n\n　　　　　　 林 智剛技師（JA岐阜厚生連 中濃厚生病院 検査科） \n\n\n\n14:20～15:20　講演２　 \n\n\n\n　　　　　　「すすめ！おすすめ！SEP」 \n\n\n\n　　　　　　井澤 和美技師（関西医科大学 整形外科学講座） \n\n\n\n15:30～16:30　特別講演 \n\n\n\n                    「痛みとしびれの臨床」 \n\n\n\n　　　　　　上條 美樹子医師（社会医療法人大雄会 総合大雄会病院 脳神経内科） \n\n\n\n ★参加定員 ：現地参加・50名　web参加・200名（申込時にどちらかを指定してください） \n\n\n\n ★参加費：   会員・無料 注）　非会員・2000円 \n\n\n\n                     注） 会費ペイにて継続課金方法の登録されている方のみが会員として参加が可能です  \n\n\n\n申込み専用フォーム： こちら　　 \n\n\n\n詳細はこちら  \n\n\n\n申し込み開始：2025年1月26日（月） \n\n\n\n締め切り：2025年3月6日(金） 
URL:https://jsgn.org/event/%e7%ac%ac43%e5%9b%9e%e6%97%a5%e6%9c%ac%e7%a5%9e%e7%b5%8c%e7%94%9f%e7%90%86%e6%a4%9c%e6%9f%bb%e7%a0%94%e7%a9%b6%e4%bc%9a%e4%b8%ad%e9%83%a8%e6%94%af%e9%83%a8%e7%a0%94%e4%bf%ae%e4%bc%9a/
ATTACH;FMTTYPE=image/png:https://jsgn.org/wp-content/uploads/2022/04/日本神経生理検査研究会　fabicon.png
END:VEVENT
END:VCALENDAR